BEGIN:VCALENDAR
VERSION:2.0
PRODID:-//wp-events-plugin.com//7.2.1//EN
BEGIN:VEVENT
UID:64@grappasgk.se
DTSTART;TZID=Europe/Stockholm:20240628T163000
DTEND;TZID=Europe/Stockholm:20240628T180000
DTSTAMP:20240604T071507Z
URL:https://grappasgk.se/events/fredagsgolfen-for-alla-juniorer-18-och-9-h
 alsbanan-kl-16-40-och-framat-3/
SUMMARY:Fredagsgolfen för alla juniorer! 18 och 9-hålsbanan kl.16.40 och 
 framåt.
DESCRIPTION:
END:VEVENT
BEGIN:VTIMEZONE
TZID:Europe/Stockholm
X-LIC-LOCATION:Europe/Stockholm
BEGIN:DAYLIGHT
DTSTART:20240331T030000
TZOFFSETFROM:+0100
TZOFFSETTO:+0200
TZNAME:CEST
END:DAYLIGHT
END:VTIMEZONE
END:VCALENDAR